Workbook

Sheet свод
B1: Сводная информация по анализу удержанных профвзносов
B2: =январь!C2 -> 2026 год
B4: Период | C4: ФОТ (в тыс.руб) | D4: Расчетный размер профвзносов (в руб) | E4: Фактически удержано (в руб) | F4: % отклонения при норме -процента
F5: =январь!C8*100 -> 3
B6: Январь | C6: =январь!C5 -> 0 | D6: =январь!C7 -> 0 | E6: =январь!C9 -> 0 | F6: =ROUND(D6/E6*100,2)-100 -> #DIV/0!
B7: Февраль | C7: =март!C5 -> 0 | D7: =февраль!C7 -> 0 | E7: =февраль!C9 -> 0 | F7: =ROUND(D7/E7*100,2)-100 -> #DIV/0!
B8: Март | C8: =март!C5 -> 0 | D8: =март!C7 -> 0 | E8: =март!C9 -> 0 | F8: =ROUND(D8/E8*100,2)-100 -> #DIV/0!
B9: Апрель | C9: =апрель!C5 -> 0 | D9: =апрель!C7 -> 0 | E9: =апрель!C9 -> 0 | F9: =ROUND(D9/E9*100,2)-100 -> #DIV/0!
B10: Май | C10: =май!C5 -> 0 | D10: =май!C7 -> 0 | E10: =май!C9 -> 0 | F10: =ROUND(D10/E10*100,2)-100 -> #DIV/0!
B11: Июнь | C11: =июнь!C5 -> 0 | D11: =июнь!C7 -> 0 | E11: =июнь!C9 -> 0 | F11: =ROUND(D11/E11*100,2)-100 -> #DIV/0!
B12: Июль | C12: =июль!C5 -> 0 | D12: =июль!C7 -> 0 | E12: =июль!C9 -> 0 | F12: =ROUND(D12/E12*100,2)-100 -> #DIV/0!
B13: Август | C13: =август!C5 -> 0 | D13: =август!C7 -> 0 | E13: =август!C9 -> 0 | F13: =ROUND(D13/E13*100,2)-100 -> #DIV/0!
B14: Сентябрь | C14: =сентябрь!C5 -> 0 | D14: =сентябрь!C7 -> 0 | E14: =сентябрь!C9 -> 0 | F14: =ROUND(D14/E14*100,2)-100 -> #DIV/0!
B15: Октябрь | C15: =октябрь!C5 -> 0 | D15: =октябрь!C7 -> 0 | E15: =октябрь!C9 -> 0 | F15: =ROUND(D15/E15*100,2)-100 -> #DIV/0!
B16: Ноябрь | C16: =ноябрь!C5 -> 0 | D16: =ноябрь!C7 -> 0 | E16: =ноябрь!C9 -> 0 | F16: =ROUND(D16/E16*100,2)-100 -> #DIV/0!
B17: Декабрь | C17: =декабрь!C5 -> 0 | D17: =декабрь!C7 -> 0 | E17: =декабрь!C9 -> 0 | F17: =ROUND(D17/E17*100,2)-100 -> #DIV/0!
B18: ИТОГО: | C18: =SUM(C6:C17) -> 0 | D18: =SUM(D6:D17) -> 0 | E18: =SUM(E6:E17) -> 0 | F18: =ROUND(D18/E18*100,2)-100 -> #DIV/0!

Sheet январь
B1: Проверка полноты удержания профвзносов
B2: январь | C2: 2026 год
A4: № п/п | B4: Наименование | C4: Показатель
A5: 1 | B5: ФОТ в тыс.рублей | F5: =C7*C8 -> 0
A6: 2 | B6: Процент профчленства | F6: =C7-F5 -> 0
A7: 3 | B7: Расчетная сумма профсоюзного взноса | C7: =ROUND(C5*1000*C6*1%,0) -> 0
A8: 4 | B8: Допустимый процент отклонения | C8: 0.03
A9: 5 | B9: Сумма профсоюзного взноса по данным хозоргана
A10: 6 | B10: Процент отклонения фактического размера профвзноса от расчетного | C10: =ROUND((C7/C9*100)-100,2) -> #DIV/0!
B12: *Внести данные в 1, 2 и 4 строки
B13: 1. Если в строке 4 ячейка зеленого цвета, то удержанные профвзносы соответствуют расчету
B14: 2. Если в строке 4 ячейка красного цвета цвета, то необходима проверка полноты удержания профвзносов
B15: 3. Если в строке 5 отрицательное число, то ФОТ занижен, либо сумма профвзносов некорректна

Sheet февраль
B1: Проверка полноты удержания профвзносов
B2: февраль | C2: =январь!C2 -> 2026 год
A4: № п/п | B4: Наименование | C4: Показатель
A5: 1 | B5: ФОТ в тыс.рублей | F5: =C7*C8 -> 0
A6: 2 | B6: Процент профчленства | F6: =C7-F5 -> 0
A7: 3 | B7: Расчетная сумма профсоюзного взноса | C7: =ROUND(C5*1000*C6*1%,0) -> 0
A8: 4 | B8: Допустимый процент отклонения | C8: 0.03
A9: 5 | B9: Сумма профсоюзного взноса по данным хозоргана
A10: 6 | B10: Процент отклонения фактического размера профвзноса от расчетного | C10: =ROUND((C7/C9*100)-100,2) -> #DIV/0!
B12: *Внести данные в 1, 2 и 4 строки
B13: 1. Если в строке 4 ячейка зеленого цвета, то удержанные профвзносы соответствуют расчету
B14: 2. Если в строке 4 ячейка красного цвета цвета, то необходима проверка полноты удержания профвзносов
B15: 3. Если в строке 5 отрицательное число, то ФОТ занижен, либо сумма профвзносов некорректна

Sheet март
B1: Проверка полноты удержания профвзносов
B2: март | C2: =январь!C2 -> 2026 год
A4: № п/п | B4: Наименование | C4: Показатель
A5: 1 | B5: ФОТ в тыс.рублей | F5: =C7*C8 -> 0
A6: 2 | B6: Процент профчленства | F6: =C7-F5 -> 0
A7: 3 | B7: Расчетная сумма профсоюзного взноса | C7: =ROUND(C5*1000*C6*1%,0) -> 0
A8: 4 | B8: Допустимый процент отклонения | C8: 0.03
A9: 5 | B9: Сумма профсоюзного взноса по данным хозоргана
A10: 6 | B10: Процент отклонения фактического размера профвзноса от расчетного | C10: =ROUND((C7/C9*100)-100,2) -> #DIV/0!
B12: *Внести данные в 1, 2 и 4 строки
B13: 1. Если в строке 4 ячейка зеленого цвета, то удержанные профвзносы соответствуют расчету
B14: 2. Если в строке 4 ячейка красного цвета цвета, то необходима проверка полноты удержания профвзносов
B15: 3. Если в строке 5 отрицательное число, то ФОТ занижен, либо сумма профвзносов некорректна

Sheet апрель
B1: Проверка полноты удержания профвзносов
B2: апрель | C2: =январь!C2 -> 2026 год
A4: № п/п | B4: Наименование | C4: Показатель
A5: 1 | B5: ФОТ в тыс.рублей | F5: =C7*C8 -> 0
A6: 2 | B6: Процент профчленства | F6: =C7-F5 -> 0
A7: 3 | B7: Расчетная сумма профсоюзного взноса | C7: =ROUND(C5*1000*C6*1%,0) -> 0
A8: 4 | B8: Допустимый процент отклонения | C8: 0.03
A9: 5 | B9: Сумма профсоюзного взноса по данным хозоргана
A10: 6 | B10: Процент отклонения фактического размера профвзноса от расчетного | C10: =ROUND((C7/C9*100)-100,2) -> #DIV/0!
B12: *Внести данные в 1, 2 и 4 строки
B13: 1. Если в строке 4 ячейка зеленого цвета, то удержанные профвзносы соответствуют расчету
B14: 2. Если в строке 4 ячейка красного цвета цвета, то необходима проверка полноты удержания профвзносов
B15: 3. Если в строке 5 отрицательное число, то ФОТ занижен, либо сумма профвзносов некорректна

Sheet май
B1: Проверка полноты удержания профвзносов
B2: май | C2: =январь!C2 -> 2026 год
A4: № п/п | B4: Наименование | C4: Показатель
A5: 1 | B5: ФОТ в тыс.рублей | F5: =C7*C8 -> 0
A6: 2 | B6: Процент профчленства | F6: =C7-F5 -> 0
A7: 3 | B7: Расчетная сумма профсоюзного взноса | C7: =ROUND(C5*1000*C6*1%,0) -> 0
A8: 4 | B8: Допустимый процент отклонения | C8: 0.03
A9: 5 | B9: Сумма профсоюзного взноса по данным хозоргана
A10: 6 | B10: Процент отклонения фактического размера профвзноса от расчетного | C10: =ROUND((C7/C9*100)-100,2) -> #DIV/0!
B12: *Внести данные в 1, 2 и 4 строки
B13: 1. Если в строке 4 ячейка зеленого цвета, то удержанные профвзносы соответствуют расчету
B14: 2. Если в строке 4 ячейка красного цвета цвета, то необходима проверка полноты удержания профвзносов
B15: 3. Если в строке 5 отрицательное число, то ФОТ занижен, либо сумма профвзносов некорректна

Sheet июнь
B1: Проверка полноты удержания профвзносов
B2: июнь | C2: =январь!C2 -> 2026 год
A4: № п/п | B4: Наименование | C4: Показатель
A5: 1 | B5: ФОТ в тыс.рублей | F5: =C7*C8 -> 0
A6: 2 | B6: Процент профчленства | F6: =C7-F5 -> 0
A7: 3 | B7: Расчетная сумма профсоюзного взноса | C7: =ROUND(C5*1000*C6*1%,0) -> 0
A8: 4 | B8: Допустимый процент отклонения | C8: 0.03
A9: 5 | B9: Сумма профсоюзного взноса по данным хозоргана
A10: 6 | B10: Процент отклонения фактического размера профвзноса от расчетного | C10: =ROUND((C7/C9*100)-100,2) -> #DIV/0!
B12: *Внести данные в 1, 2 и 4 строки
B13: 1. Если в строке 4 ячейка зеленого цвета, то удержанные профвзносы соответствуют расчету
B14: 2. Если в строке 4 ячейка красного цвета цвета, то необходима проверка полноты удержания профвзносов
B15: 3. Если в строке 5 отрицательное число, то ФОТ занижен, либо сумма профвзносов некорректна

Sheet июль
B1: Проверка полноты удержания профвзносов
B2: июль | C2: =январь!C2 -> 2026 год
A4: № п/п | B4: Наименование | C4: Показатель
A5: 1 | B5: ФОТ в тыс.рублей | F5: =C7*C8 -> 0
A6: 2 | B6: Процент профчленства | F6: =C7-F5 -> 0
A7: 3 | B7: Расчетная сумма профсоюзного взноса | C7: =ROUND(C5*1000*C6*1%,0) -> 0
A8: 4 | B8: Допустимый процент отклонения | C8: 0.03
A9: 5 | B9: Сумма профсоюзного взноса по данным хозоргана
A10: 6 | B10: Процент отклонения фактического размера профвзноса от расчетного | C10: =ROUND((C7/C9*100)-100,2) -> #DIV/0!
B12: *Внести данные в 1, 2 и 4 строки
B13: 1. Если в строке 4 ячейка зеленого цвета, то удержанные профвзносы соответствуют расчету
B14: 2. Если в строке 4 ячейка красного цвета цвета, то необходима проверка полноты удержания профвзносов
B15: 3. Если в строке 5 отрицательное число, то ФОТ занижен, либо сумма профвзносов некорректна

Sheet август
B1: Проверка полноты удержания профвзносов
B2: август | C2: =январь!C2 -> 2026 год
A4: № п/п | B4: Наименование | C4: Показатель
A5: 1 | B5: ФОТ в тыс.рублей | F5: =C7*C8 -> 0
A6: 2 | B6: Процент профчленства | F6: =C7-F5 -> 0
A7: 3 | B7: Расчетная сумма профсоюзного взноса | C7: =ROUND(C5*1000*C6*1%,0) -> 0
A8: 4 | B8: Допустимый процент отклонения | C8: 0.03
A9: 5 | B9: Сумма профсоюзного взноса по данным хозоргана
A10: 6 | B10: Процент отклонения фактического размера профвзноса от расчетного | C10: =ROUND((C7/C9*100)-100,2) -> #DIV/0!
B12: *Внести данные в 1, 2 и 4 строки
B13: 1. Если в строке 4 ячейка зеленого цвета, то удержанные профвзносы соответствуют расчету
B14: 2. Если в строке 4 ячейка красного цвета цвета, то необходима проверка полноты удержания профвзносов
B15: 3. Если в строке 5 отрицательное число, то ФОТ занижен, либо сумма профвзносов некорректна

Sheet сентябрь
B1: Проверка полноты удержания профвзносов
B2: сентябрь | C2: =январь!C2 -> 2026 год
A4: № п/п | B4: Наименование | C4: Показатель
A5: 1 | B5: ФОТ в тыс.рублей | F5: =C7*C8 -> 0
A6: 2 | B6: Процент профчленства | F6: =C7-F5 -> 0
A7: 3 | B7: Расчетная сумма профсоюзного взноса | C7: =ROUND(C5*1000*C6*1%,0) -> 0
A8: 4 | B8: Допустимый процент отклонения | C8: 0.03
A9: 5 | B9: Сумма профсоюзного взноса по данным хозоргана
A10: 6 | B10: Процент отклонения фактического размера профвзноса от расчетного | C10: =ROUND((C7/C9*100)-100,2) -> #DIV/0!
B12: *Внести данные в 1, 2 и 4 строки
B13: 1. Если в строке 4 ячейка зеленого цвета, то удержанные профвзносы соответствуют расчету
B14: 2. Если в строке 4 ячейка красного цвета цвета, то необходима проверка полноты удержания профвзносов
B15: 3. Если в строке 5 отрицательное число, то ФОТ занижен, либо сумма профвзносов некорректна

Sheet октябрь
B1: Проверка полноты удержания профвзносов
B2: октябрь | C2: =январь!C2 -> 2026 год
A4: № п/п | B4: Наименование | C4: Показатель
A5: 1 | B5: ФОТ в тыс.рублей | F5: =C7*C8 -> 0
A6: 2 | B6: Процент профчленства | F6: =C7-F5 -> 0
A7: 3 | B7: Расчетная сумма профсоюзного взноса | C7: =ROUND(C5*1000*C6*1%,0) -> 0
A8: 4 | B8: Допустимый процент отклонения | C8: 0.03
A9: 5 | B9: Сумма профсоюзного взноса по данным хозоргана
A10: 6 | B10: Процент отклонения фактического размера профвзноса от расчетного | C10: =ROUND((C7/C9*100)-100,2) -> #DIV/0!
B12: *Внести данные в 1, 2 и 4 строки
B13: 1. Если в строке 4 ячейка зеленого цвета, то удержанные профвзносы соответствуют расчету
B14: 2. Если в строке 4 ячейка красного цвета цвета, то необходима проверка полноты удержания профвзносов
B15: 3. Если в строке 5 отрицательное число, то ФОТ занижен, либо сумма профвзносов некорректна

Sheet ноябрь
B1: Проверка полноты удержания профвзносов
B2: ноябрь | C2: =январь!C2 -> 2026 год
A4: № п/п | B4: Наименование | C4: Показатель
A5: 1 | B5: ФОТ в тыс.рублей | F5: =C7*C8 -> 0
A6: 2 | B6: Процент профчленства | F6: =C7-F5 -> 0
A7: 3 | B7: Расчетная сумма профсоюзного взноса | C7: =ROUND(C5*1000*C6*1%,0) -> 0
A8: 4 | B8: Допустимый процент отклонения | C8: 0.03
A9: 5 | B9: Сумма профсоюзного взноса по данным хозоргана
A10: 6 | B10: Процент отклонения фактического размера профвзноса от расчетного | C10: =ROUND((C7/C9*100)-100,2) -> #DIV/0!
B12: *Внести данные в 1, 2 и 4 строки
B13: 1. Если в строке 4 ячейка зеленого цвета, то удержанные профвзносы соответствуют расчету
B14: 2. Если в строке 4 ячейка красного цвета цвета, то необходима проверка полноты удержания профвзносов
B15: 3. Если в строке 5 отрицательное число, то ФОТ занижен, либо сумма профвзносов некорректна

Sheet декабрь
B1: Проверка полноты удержания профвзносов
B2: ноябрь | C2: =январь!C2 -> 2026 год
A4: № п/п | B4: Наименование | C4: Показатель
A5: 1 | B5: ФОТ в тыс.рублей | F5: =C7*C8 -> 0
A6: 2 | B6: Процент профчленства | F6: =C7-F5 -> 0
A7: 3 | B7: Расчетная сумма профсоюзного взноса | C7: =ROUND(C5*1000*C6*1%,0) -> 0
A8: 4 | B8: Допустимый процент отклонения | C8: 0.03
A9: 5 | B9: Сумма профсоюзного взноса по данным хозоргана
A10: 6 | B10: Процент отклонения фактического размера профвзноса от расчетного | C10: =ROUND((C7/C9*100)-100,2) -> #DIV/0!
B12: *Внести данные в 1, 2 и 4 строки
B13: 1. Если в строке 4 ячейка зеленого цвета, то удержанные профвзносы соответствуют расчету
B14: 2. Если в строке 4 ячейка красного цвета цвета, то необходима проверка полноты удержания профвзносов
B15: 3. Если в строке 5 отрицательное число, то ФОТ занижен, либо сумма профвзносов некорректна
